BEGIN:VCALENDAR
VERSION:2.0
PRODID:-//16.08.2026 - 21.08.2026 - ECPv6.15.13//NONSGML v1.0//EN
CALSCALE:GREGORIAN
METHOD:PUBLISH
X-WR-CALNAME:16.08.2026 - 21.08.2026
X-ORIGINAL-URL:https://zeltlager-noethen.de
X-WR-CALDESC:Veranstaltungen für 16.08.2026 - 21.08.2026
REFRESH-INTERVAL;VALUE=DURATION:PT1H
X-Robots-Tag:noindex
X-PUBLISHED-TTL:PT1H
BEGIN:VTIMEZONE
TZID:Europe/Berlin
BEGIN:DAYLIGHT
TZOFFSETFROM:+0100
TZOFFSETTO:+0200
TZNAME:CEST
DTSTART:20250330T010000
END:DAYLIGHT
BEGIN:STANDARD
TZOFFSETFROM:+0200
TZOFFSETTO:+0100
TZNAME:CET
DTSTART:20251026T010000
END:STANDARD
BEGIN:DAYLIGHT
TZOFFSETFROM:+0100
TZOFFSETTO:+0200
TZNAME:CEST
DTSTART:20260329T010000
END:DAYLIGHT
BEGIN:STANDARD
TZOFFSETFROM:+0200
TZOFFSETTO:+0100
TZNAME:CET
DTSTART:20261025T010000
END:STANDARD
BEGIN:DAYLIGHT
TZOFFSETFROM:+0100
TZOFFSETTO:+0200
TZNAME:CEST
DTSTART:20270328T010000
END:DAYLIGHT
BEGIN:STANDARD
TZOFFSETFROM:+0200
TZOFFSETTO:+0100
TZNAME:CET
DTSTART:20271031T010000
END:STANDARD
END:VTIMEZONE
BEGIN:VEVENT
DTSTART;TZID=Europe/Berlin:20260816T140000
DTEND;TZID=Europe/Berlin:20260821T120000
DTSTAMP:20260424T111218
CREATED:20250916T133347Z
LAST-MODIFIED:20260105T184158Z
UID:2465-1786888800-1787313600@zeltlager-noethen.de
SUMMARY:Zeltlager 2026
DESCRIPTION:
URL:https://zeltlager-noethen.de/event/zeltlager-2026/
LOCATION:Zeltplatz Nöthen\, GPW7+CF\, Bad Münstereifel\, Nordrhein-Westfalen\, 53902\, Germany
ORGANIZER;CN="Zeltlager N%C3%B6then":MAILTO:anmeldung@zeltlager-noethen.de
END:VEVENT
END:VCALENDAR